BEGIN:VCALENDAR
VERSION:2.0
PRODID:-//ChamberMaster//Event Calendar 2.0//EN
METHOD:PUBLISH
X-PUBLISHED-TTL:P3D
REFRESH-INTERVAL:P3D
CALSCALE:GREGORIAN
BEGIN:VEVENT
DTSTART:20190924T230000Z
DTEND:20190925T010000Z
X-MICROSOFT-CDO-ALLDAYEVENT:FALSE
SUMMARY:SCBEX Mixer
DESCRIPTION:The SCBEX Mixer event announces the selection committees shortlist of 3 in each category.  Appetizers and Beverages are provided.  A special thank-you to our sponsors for this event - Innovation Credit Union and Great Plains College.
X-ALT-DESC;FMTTYPE=text/html:The SCBEX Mixer event announces the selection committees shortlist of 3 in each category.&nbsp\; Appetizers and Beverages are provided.&nbsp\; A special thank-you to our sponsors for this event - Innovation Credit Union and Great Plains College.
LOCATION:Great Plains College 129 2nd Ave NE Swift Current
UID:e.2016.3490
SEQUENCE:3
DTSTAMP:20260421T053741Z
URL:http://swiftcurrentchamber.chambermaster.com/events/details/scbex-mixer-3490
END:VEVENT

END:VCALENDAR
